BEGIN:VCALENDAR
VERSION:2.0
PRODID:-//eventon.com NONSGML v1.0//EN
CALSCALE:GREGORIAN
METHOD:PUBLISH
BEGIN:VEVENT
UID:69e55c752f7fd
DTSTAMP:20260419T225133Z
DTSTART:20231025T183000Z
DTEND:20231025T215900Z
LOCATION:
SUMMARY:Meet Cafa in der Domburg
DESCRIPTION:Meet Cafa in der Domburg\nhttps://www.capufaktur.de/events/meet
 -cafa-in-der-bar/
URL:https://www.capufaktur.de/events/meet-cafa-in-der-bar/
END:VEVENT
END:VCALENDAR