BEGIN:VCALENDAR
VERSION:2.0
PRODID:-//eventon.com NONSGML v1.0//EN
CALSCALE:GREGORIAN
METHOD:PUBLISH
BEGIN:VEVENT
UID:69e54c46ec787
DTSTAMP:20260419T214230Z
DTSTART:20231103
DTEND:20231104
LOCATION:
SUMMARY:Bewerbungsschluss
DESCRIPTION:Bewerbungsschluss\nhttps://www.capufaktur.de/events/bewerbungss
 chluss/
URL:https://www.capufaktur.de/events/bewerbungsschluss/
END:VEVENT
END:VCALENDAR