BEGIN:VCALENDAR
VERSION:2.0
PRODID:-//eventon.com NONSGML v1.0//EN
CALSCALE:GREGORIAN
METHOD:PUBLISH
BEGIN:VEVENT
UID:69e6fb8439638
DTSTAMP:20260421T042228Z
DTSTART:20240422
DTEND:20240423
LOCATION:
SUMMARY:Infoveranstaltung
DESCRIPTION:Infoveranstaltung\nhttps://www.capufaktur.de/events/infoveranst
 altung/
URL:https://www.capufaktur.de/events/infoveranstaltung/
END:VEVENT
END:VCALENDAR